BEGIN:VCALENDAR
VERSION:2.0
PRODID:-//eventon.com NONSGML v1.0//EN
BEGIN:VEVENT
UID:69e4ea350d98a
DTSTAMP:20260419T164405
DTSTART:20230806T060000Z
DTEND:20230806T180000Z
TZID:Europe/Paris
LOCATION:
SUMMARY:Troc et puces dans la cour de l'école
DESCRIPTION: organisé par l&#8217;association ACDL
URL:https://www.clohars-fouesnant.bzh/events/troc-et-puces-dans-la-cour-de-lecole/
END:VEVENT
END:VCALENDAR