BEGIN:VCALENDAR
VERSION:2.0
PRODID:-//eventon.com NONSGML v1.0//EN
BEGIN:VEVENT
UID:69e8843794492
DTSTAMP:20260422T101759
DTSTART:20230702T160000Z
DTEND:20230702T180000Z
TZID:Europe/Paris
LOCATION:
SUMMARY:Concert de musique baroque à l'église Saint-Hilaire
DESCRIPTION: L’association Musik Europa Breizh propose une série de 5 concerts à l’église Saint Hilaire de Clohars-Fouesnant entre mi mai et fin septembre pour vous permettre de découvrir la musique baroque et ses instruments. dimanche 02 juillet à 18h00 – « La régale et le clavecin ». Concert de clavecin et régale (petit[..]
URL:https://www.clohars-fouesnant.bzh/events/concert-de-musique-baroque-a-leglise-saint-hilaire-2/
END:VEVENT
END:VCALENDAR